BEGIN:VCALENDAR
PRODID:-//www.undertheradar.co.nz//NONSGML Undertheradar//EN
VERSION:2.0
BEGIN:VEVENT
DESCRIPTION:The Buhne Brothers - The Undercurrent, Wellington
UID:1190175379-100896@undertheradar.co.nz
DTSTAMP:20260221T190000Z
DTSTART:20260221T190000
DTEND:20260221T190059
SUMMARY:The Buhne Brothers
LOCATION:The Undercurrent, Wellington
URL:http://www.undertheradar.co.nz/gig/100896/gig.utr
END:VEVENT
END:VCALENDAR

