BEGIN:VCALENDAR
PRODID:-//www.undertheradar.co.nz//NONSGML Undertheradar//EN
VERSION:2.0
BEGIN:VEVENT
DESCRIPTION:Earth Tongue 'Dungeon Vision' Release Party - Flying Out, Auckland
UID:1190175379-100916@undertheradar.co.nz
DTSTAMP:20260212T160000Z
DTSTART:20260212T160000
DTEND:20260212T160059
SUMMARY:Earth Tongue 'Dungeon Vision' Release Party
LOCATION:Flying Out, Auckland
URL:http://www.undertheradar.co.nz/gig/100916/gig.utr
END:VEVENT
END:VCALENDAR

