BEGIN:VCALENDAR
PRODID:-//www.undertheradar.co.nz//NONSGML Undertheradar//EN
VERSION:2.0
BEGIN:VEVENT
DESCRIPTION:Magic Is Real: Death To Realism - 13 Garrett Street, Wellington
UID:1190175379-100920@undertheradar.co.nz
DTSTAMP:20260227T190000Z
DTSTART:20260227T190000
DTEND:20260227T190059
SUMMARY:Magic Is Real: Death To Realism
LOCATION:13 Garrett Street, Wellington
URL:http://www.undertheradar.co.nz/gig/100920/gig.utr
END:VEVENT
END:VCALENDAR

