BEGIN:VCALENDAR
PRODID:-//www.undertheradar.co.nz//NONSGML Undertheradar//EN
VERSION:2.0
BEGIN:VEVENT
DESCRIPTION:Shayne P. Carter - The Monkey House Theatre, Whitianga
UID:1190175379-100930@undertheradar.co.nz
DTSTAMP:20260418T200000Z
DTSTART:20260418T200000
DTEND:20260418T200059
SUMMARY:Shayne P. Carter
LOCATION:The Monkey House Theatre, Whitianga
URL:http://www.undertheradar.co.nz/gig/100930/gig.utr
END:VEVENT
END:VCALENDAR

