BEGIN:VCALENDAR
PRODID:-//www.undertheradar.co.nz//NONSGML Undertheradar//EN
VERSION:2.0
BEGIN:VEVENT
DESCRIPTION:Park Flyers X Slow Rage - Blackbird Records, Papamoa
UID:1190175379-100940@undertheradar.co.nz
DTSTAMP:20260319T193000Z
DTSTART:20260319T193000
DTEND:20260319T193059
SUMMARY:Park Flyers X Slow Rage
LOCATION:Blackbird Records, Papamoa
URL:http://www.undertheradar.co.nz/gig/100940/gig.utr
END:VEVENT
END:VCALENDAR

