BEGIN:VCALENDAR
PRODID:-//www.undertheradar.co.nz//NONSGML Undertheradar//EN
VERSION:2.0
BEGIN:VEVENT
DESCRIPTION:Dan Walsh: Top Uk Clawhammer Banjo Player, Guitarist And Singer - Christchurch Folk Music Club, Christchurch
UID:1190175379-100954@undertheradar.co.nz
DTSTAMP:20260222T190000Z
DTSTART:20260222T190000
DTEND:20260222T190059
SUMMARY:Dan Walsh: Top Uk Clawhammer Banjo Player, Guitarist And Singer
LOCATION:Christchurch Folk Music Club, Christchurch
URL:http://www.undertheradar.co.nz/gig/100954/gig.utr
END:VEVENT
END:VCALENDAR

