BEGIN:VCALENDAR
PRODID:-//www.undertheradar.co.nz//NONSGML Undertheradar//EN
VERSION:2.0
BEGIN:VEVENT
DESCRIPTION:Sunday Jazz - Seth Boy - Rogue and Vagabond, Wellington
UID:1190175379-101026@undertheradar.co.nz
DTSTAMP:20260222T160000Z
DTSTART:20260222T160000
DTEND:20260222T160059
SUMMARY:Sunday Jazz - Seth Boy
LOCATION:Rogue and Vagabond, Wellington
URL:http://www.undertheradar.co.nz/gig/101026/gig.utr
END:VEVENT
END:VCALENDAR

