BEGIN:VCALENDAR
PRODID:-//www.undertheradar.co.nz//NONSGML Undertheradar//EN
VERSION:2.0
BEGIN:VEVENT
DESCRIPTION:Princess Chelsea Previews Songs from 'Big Power' - Mercury Lane Alleyway, Auckland
UID:1190175379-101035@undertheradar.co.nz
DTSTAMP:20260223T190000Z
DTSTART:20260223T190000
DTEND:20260223T190059
SUMMARY:Princess Chelsea Previews Songs from 'Big Power'
LOCATION:Mercury Lane Alleyway, Auckland
URL:http://www.undertheradar.co.nz/gig/101035/gig.utr
END:VEVENT
END:VCALENDAR

