BEGIN:VCALENDAR
PRODID:-//www.undertheradar.co.nz//NONSGML Undertheradar//EN
VERSION:2.0
BEGIN:VEVENT
DESCRIPTION:Adam Mcgrath + Scott Cook + Pamela Mae - A Rolling Stone, Christchurch
UID:1190175379-101040@undertheradar.co.nz
DTSTAMP:20260221T193000Z
DTSTART:20260221T193000
DTEND:20260221T193059
SUMMARY:Adam Mcgrath + Scott Cook + Pamela Mae
LOCATION:A Rolling Stone, Christchurch
URL:http://www.undertheradar.co.nz/gig/101040/gig.utr
END:VEVENT
END:VCALENDAR

