BEGIN:VCALENDAR
PRODID:-//www.undertheradar.co.nz//NONSGML Undertheradar//EN
VERSION:2.0
BEGIN:VEVENT
DESCRIPTION:Sunday Jazz - Aidan Mcculloch - Rogue and Vagabond, Wellington
UID:1190175379-101054@undertheradar.co.nz
DTSTAMP:20260301T160000Z
DTSTART:20260301T160000
DTEND:20260301T160059
SUMMARY:Sunday Jazz - Aidan Mcculloch
LOCATION:Rogue and Vagabond, Wellington
URL:http://www.undertheradar.co.nz/gig/101054/gig.utr
END:VEVENT
END:VCALENDAR

