BEGIN:VCALENDAR
PRODID:-//www.undertheradar.co.nz//NONSGML Undertheradar//EN
VERSION:2.0
BEGIN:VEVENT
DESCRIPTION:Endless Swarm: Scottish Power Violence Aotearoa Tour 2026 - Valhalla, Wellington
UID:1190175379-101095@undertheradar.co.nz
DTSTAMP:20260503T180000Z
DTSTART:20260503T180000
DTEND:20260503T180059
SUMMARY:Endless Swarm: Scottish Power Violence Aotearoa Tour 2026
LOCATION:Valhalla, Wellington
URL:http://www.undertheradar.co.nz/gig/101095/gig.utr
END:VEVENT
END:VCALENDAR

