BEGIN:VCALENDAR
PRODID:-//www.undertheradar.co.nz//NONSGML Undertheradar//EN
VERSION:2.0
BEGIN:VEVENT
DESCRIPTION:Ben Catley (AUS) - The Monkey House Theatre, Whitianga
UID:1190175379-101111@undertheradar.co.nz
DTSTAMP:20260410T190000Z
DTSTART:20260410T190000
DTEND:20260410T190059
SUMMARY:Ben Catley (AUS)
LOCATION:The Monkey House Theatre, Whitianga
URL:http://www.undertheradar.co.nz/gig/101111/gig.utr
END:VEVENT
END:VCALENDAR

