BEGIN:VCALENDAR
PRODID:-//www.undertheradar.co.nz//NONSGML Undertheradar//EN
VERSION:2.0
BEGIN:VEVENT
DESCRIPTION:Omiha Folk Club Presents Jennifer Reid And Paul Brown - Omiha MemorialHall, Waiheke Island
UID:1190175379-101127@undertheradar.co.nz
DTSTAMP:20260313T190000Z
DTSTART:20260313T190000
DTEND:20260313T190059
SUMMARY:Omiha Folk Club Presents Jennifer Reid And Paul Brown
LOCATION:Omiha MemorialHall, Waiheke Island
URL:http://www.undertheradar.co.nz/gig/101127/gig.utr
END:VEVENT
END:VCALENDAR

