BEGIN:VCALENDAR
PRODID:-//www.undertheradar.co.nz//NONSGML Undertheradar//EN
VERSION:2.0
BEGIN:VEVENT
DESCRIPTION:Salo-salo: A Filipino Food Faid And Charity Concert - 181, Wellington
UID:1190175379-101135@undertheradar.co.nz
DTSTAMP:20260314T170000Z
DTSTART:20260314T170000
DTEND:20260314T170059
SUMMARY:Salo-salo: A Filipino Food Faid And Charity Concert
LOCATION:181, Wellington
URL:http://www.undertheradar.co.nz/gig/101135/gig.utr
END:VEVENT
END:VCALENDAR

