BEGIN:VCALENDAR
PRODID:-//www.undertheradar.co.nz//NONSGML Undertheradar//EN
VERSION:2.0
BEGIN:VEVENT
DESCRIPTION:Saosin New Zealand 2026 Tour with Senses Fail - San Fran, Wellington
UID:1190175379-101187@undertheradar.co.nz
DTSTAMP:20260419T200000Z
DTSTART:20260419T200000
DTEND:20260419T200059
SUMMARY:Saosin New Zealand 2026 Tour with Senses Fail
LOCATION:San Fran, Wellington
URL:http://www.undertheradar.co.nz/gig/101187/gig.utr
END:VEVENT
END:VCALENDAR

