BEGIN:VCALENDAR
PRODID:-//www.undertheradar.co.nz//NONSGML Undertheradar//EN
VERSION:2.0
BEGIN:VEVENT
DESCRIPTION:Strung Out (USA) - Last Place, Hamilton
UID:1190175379-101648@undertheradar.co.nz
DTSTAMP:20260911T200000Z
DTSTART:20260911T200000
DTEND:20260911T200059
SUMMARY:Strung Out (USA)
LOCATION:Last Place, Hamilton
URL:http://www.undertheradar.co.nz/gig/101648/gig.utr
END:VEVENT
END:VCALENDAR

