BEGIN:VCALENDAR
PRODID:-//www.undertheradar.co.nz//NONSGML Undertheradar//EN
VERSION:2.0
BEGIN:VEVENT
DESCRIPTION:Strung Out (USA) - Whammy Bar, Auckland
UID:1190175379-101651@undertheradar.co.nz
DTSTAMP:20260912T200000Z
DTSTART:20260912T200000
DTEND:20260912T200059
SUMMARY:Strung Out (USA)
LOCATION:Whammy Bar, Auckland
URL:http://www.undertheradar.co.nz/gig/101651/gig.utr
END:VEVENT
END:VCALENDAR

