BEGIN:VCALENDAR
PRODID:-//www.undertheradar.co.nz//NONSGML Undertheradar//EN
VERSION:2.0
BEGIN:VEVENT
DESCRIPTION:Strung Out (USA) - Valhalla, Wellington
UID:1190175379-101652@undertheradar.co.nz
DTSTAMP:20260913T200000Z
DTSTART:20260913T200000
DTEND:20260913T200059
SUMMARY:Strung Out (USA)
LOCATION:Valhalla, Wellington
URL:http://www.undertheradar.co.nz/gig/101652/gig.utr
END:VEVENT
END:VCALENDAR

