BEGIN:VCALENDAR
PRODID:-//www.undertheradar.co.nz//NONSGML Undertheradar//EN
VERSION:2.0
BEGIN:VEVENT
DESCRIPTION:Strung Out (USA) - Loons, Lyttelton
UID:1190175379-101653@undertheradar.co.nz
DTSTAMP:20260914T200000Z
DTSTART:20260914T200000
DTEND:20260914T200059
SUMMARY:Strung Out (USA)
LOCATION:Loons, Lyttelton
URL:http://www.undertheradar.co.nz/gig/101653/gig.utr
END:VEVENT
END:VCALENDAR

