BEGIN:VCALENDAR
PRODID:-//www.undertheradar.co.nz//NONSGML Undertheradar//EN
VERSION:2.0
BEGIN:VEVENT
DESCRIPTION:Squealer AC/DC Tribute - Stoned Templar Pirates - MOON, Wellington
UID:1190175379-101911@undertheradar.co.nz
DTSTAMP:20260627T200000Z
DTSTART:20260627T200000
DTEND:20260627T200059
SUMMARY:Squealer AC/DC Tribute - Stoned Templar Pirates
LOCATION:MOON, Wellington
URL:http://www.undertheradar.co.nz/gig/101911/gig.utr
END:VEVENT
END:VCALENDAR

