BEGIN:VCALENDAR
PRODID:-//www.undertheradar.co.nz//NONSGML Undertheradar//EN
VERSION:2.0
BEGIN:VEVENT
DESCRIPTION:Electric 80's: Frisky Business Live - The Stables Events Venue, Matakana
UID:1190175379-101917@undertheradar.co.nz
DTSTAMP:20260613T193000Z
DTSTART:20260613T193000
DTEND:20260613T193059
SUMMARY:Electric 80's: Frisky Business Live
LOCATION:The Stables Events Venue, Matakana
URL:http://www.undertheradar.co.nz/gig/101917/gig.utr
END:VEVENT
END:VCALENDAR

