BEGIN:VCALENDAR
PRODID:-//www.undertheradar.co.nz//NONSGML Undertheradar//EN
VERSION:2.0
BEGIN:VEVENT
DESCRIPTION:The Music Of Kendrick Lamar: Reimagined Live - Meow Nui, Wellington
UID:1190175379-102026@undertheradar.co.nz
DTSTAMP:20260509T200000Z
DTSTART:20260509T200000
DTEND:20260509T200059
SUMMARY:The Music Of Kendrick Lamar: Reimagined Live
LOCATION:Meow Nui, Wellington
URL:http://www.undertheradar.co.nz/gig/102026/gig.utr
END:VEVENT
END:VCALENDAR

