BEGIN:VCALENDAR
PRODID:-//www.undertheradar.co.nz//NONSGML Undertheradar//EN
VERSION:2.0
BEGIN:VEVENT
DESCRIPTION:Frictionless - Wunderbar, Christchurch
UID:1190175379-102035@undertheradar.co.nz
DTSTAMP:20260508T200000Z
DTSTART:20260508T200000
DTEND:20260508T200059
SUMMARY:Frictionless
LOCATION:Wunderbar, Christchurch
URL:http://www.undertheradar.co.nz/gig/102035/gig.utr
END:VEVENT
END:VCALENDAR

