BEGIN:VCALENDAR
PRODID:-//www.undertheradar.co.nz//NONSGML Undertheradar//EN
VERSION:2.0
BEGIN:VEVENT
DESCRIPTION:Brazza! - Rogue and Vagabond, Wellington
UID:1190175379-102041@undertheradar.co.nz
DTSTAMP:20260508T200000Z
DTSTART:20260508T200000
DTEND:20260508T200059
SUMMARY:Brazza!
LOCATION:Rogue and Vagabond, Wellington
URL:http://www.undertheradar.co.nz/gig/102041/gig.utr
END:VEVENT
END:VCALENDAR

