BEGIN:VCALENDAR
PRODID:-//www.undertheradar.co.nz//NONSGML Undertheradar//EN
VERSION:2.0
BEGIN:VEVENT
DESCRIPTION:Day 365 - Live At San Fran (feat. Imani-J, Dani Josie, _ Juna) - San Fran, Wellington
UID:1190175379-102081@undertheradar.co.nz
DTSTAMP:20260510T183000Z
DTSTART:20260510T183000
DTEND:20260510T183059
SUMMARY:Day 365 - Live At San Fran (feat. Imani-J, Dani Josie, _ Juna)
LOCATION:San Fran, Wellington
URL:http://www.undertheradar.co.nz/gig/102081/gig.utr
END:VEVENT
END:VCALENDAR

