BEGIN:VCALENDAR
PRODID:-//www.undertheradar.co.nz//NONSGML Undertheradar//EN
VERSION:2.0
BEGIN:VEVENT
DESCRIPTION:Cosmic Gate [Armada / Black Hole / Wake Your Mind] - The Mothership, Auckland
UID:1190175379-102089@undertheradar.co.nz
DTSTAMP:20260604T200000Z
DTSTART:20260604T200000
DTEND:20260604T200059
SUMMARY:Cosmic Gate [Armada / Black Hole / Wake Your Mind]
LOCATION:The Mothership, Auckland
URL:http://www.undertheradar.co.nz/gig/102089/gig.utr
END:VEVENT
END:VCALENDAR

