BEGIN:VCALENDAR
PRODID:-//www.undertheradar.co.nz//NONSGML Undertheradar//EN
VERSION:2.0
BEGIN:VEVENT
DESCRIPTION:Diggy Dupé - The Brown Velvet Tour - Double Whammy, Auckland
UID:1190175379-102097@undertheradar.co.nz
DTSTAMP:20260523T200000Z
DTSTART:20260523T200000
DTEND:20260523T200059
SUMMARY:Diggy Dupé - The Brown Velvet Tour
LOCATION:Double Whammy, Auckland
URL:http://www.undertheradar.co.nz/gig/102097/gig.utr
END:VEVENT
END:VCALENDAR

