BEGIN:VCALENDAR
PRODID:-//www.undertheradar.co.nz//NONSGML Undertheradar//EN
VERSION:2.0
BEGIN:VEVENT
DESCRIPTION:Diggy Dupé - The Brown Velvet Tour - Wellington - Meow, Wellington
UID:1190175379-102098@undertheradar.co.nz
DTSTAMP:20260606T200000Z
DTSTART:20260606T200000
DTEND:20260606T200059
SUMMARY:Diggy Dupé - The Brown Velvet Tour - Wellington
LOCATION:Meow, Wellington
URL:http://www.undertheradar.co.nz/gig/102098/gig.utr
END:VEVENT
END:VCALENDAR

