BEGIN:VCALENDAR
PRODID:-//www.undertheradar.co.nz//NONSGML Undertheradar//EN
VERSION:2.0
BEGIN:VEVENT
DESCRIPTION:A Night Of Trouble And Turmoil With Danica Bryant - Rogue Hop, Napier
UID:1190175379-102102@undertheradar.co.nz
DTSTAMP:20260516T190000Z
DTSTART:20260516T190000
DTEND:20260516T190059
SUMMARY:A Night Of Trouble And Turmoil With Danica Bryant
LOCATION:Rogue Hop, Napier
URL:http://www.undertheradar.co.nz/gig/102102/gig.utr
END:VEVENT
END:VCALENDAR

