BEGIN:VCALENDAR
PRODID:-//www.undertheradar.co.nz//NONSGML Undertheradar//EN
VERSION:2.0
BEGIN:VEVENT
DESCRIPTION:A Night Of Trouble And Turmoil With Danica Bryant - The Undercurrent, Wellington
UID:1190175379-102103@undertheradar.co.nz
DTSTAMP:20260521T190000Z
DTSTART:20260521T190000
DTEND:20260521T190059
SUMMARY:A Night Of Trouble And Turmoil With Danica Bryant
LOCATION:The Undercurrent, Wellington
URL:http://www.undertheradar.co.nz/gig/102103/gig.utr
END:VEVENT
END:VCALENDAR

