BEGIN:VCALENDAR
PRODID:-//www.undertheradar.co.nz//NONSGML Undertheradar//EN
VERSION:2.0
BEGIN:VEVENT
DESCRIPTION:Crimson Echoes And Friends - darkroom, Christchurch
UID:1190175379-102105@undertheradar.co.nz
DTSTAMP:20260604T190000Z
DTSTART:20260604T190000
DTEND:20260604T190059
SUMMARY:Crimson Echoes And Friends
LOCATION:darkroom, Christchurch
URL:http://www.undertheradar.co.nz/gig/102105/gig.utr
END:VEVENT
END:VCALENDAR

