BEGIN:VCALENDAR
PRODID:-//www.undertheradar.co.nz//NONSGML Undertheradar//EN
VERSION:2.0
BEGIN:VEVENT
DESCRIPTION:Sunday Jazz Ft. Daniel Yeabsley And Fritz Wolner - The Undercurrent, Wellington
UID:1190175379-102109@undertheradar.co.nz
DTSTAMP:20260524T150000Z
DTSTART:20260524T150000
DTEND:20260524T150059
SUMMARY:Sunday Jazz Ft. Daniel Yeabsley And Fritz Wolner
LOCATION:The Undercurrent, Wellington
URL:http://www.undertheradar.co.nz/gig/102109/gig.utr
END:VEVENT
END:VCALENDAR

