BEGIN:VCALENDAR
PRODID:-//www.undertheradar.co.nz//NONSGML Undertheradar//EN
VERSION:2.0
BEGIN:VEVENT
DESCRIPTION:Sunday Jazz Ft. G And T - The Undercurrent, Wellington
UID:1190175379-102111@undertheradar.co.nz
DTSTAMP:20260503T150000Z
DTSTART:20260503T150000
DTEND:20260503T150059
SUMMARY:Sunday Jazz Ft. G And T
LOCATION:The Undercurrent, Wellington
URL:http://www.undertheradar.co.nz/gig/102111/gig.utr
END:VEVENT
END:VCALENDAR

