BEGIN:VCALENDAR
PRODID:-//www.undertheradar.co.nz//NONSGML Undertheradar//EN
VERSION:2.0
BEGIN:VEVENT
DESCRIPTION:Brett Perkins - The Undercurrent, Wellington
UID:1190175379-102112@undertheradar.co.nz
DTSTAMP:20260501T170000Z
DTSTART:20260501T170000
DTEND:20260501T170059
SUMMARY:Brett Perkins
LOCATION:The Undercurrent, Wellington
URL:http://www.undertheradar.co.nz/gig/102112/gig.utr
END:VEVENT
END:VCALENDAR

