BEGIN:VCALENDAR
PRODID:-//www.undertheradar.co.nz//NONSGML Undertheradar//EN
VERSION:2.0
BEGIN:VEVENT
DESCRIPTION:Dead By Dawn Ft Slave Cadaver And Teeth And Nails - Asgard, New Plymouth
UID:1190175379-102113@undertheradar.co.nz
DTSTAMP:20260520T200000Z
DTSTART:20260520T200000
DTEND:20260520T200059
SUMMARY:Dead By Dawn Ft Slave Cadaver And Teeth And Nails
LOCATION:Asgard, New Plymouth
URL:http://www.undertheradar.co.nz/gig/102113/gig.utr
END:VEVENT
END:VCALENDAR

