BEGIN:VCALENDAR
PRODID:-//www.undertheradar.co.nz//NONSGML Undertheradar//EN
VERSION:2.0
BEGIN:VEVENT
DESCRIPTION:Generation Family-Friendly Dance Party - Rawene Centre, Birkenhead
UID:1190175379-102114@undertheradar.co.nz
DTSTAMP:20260606T140000Z
DTSTART:20260606T140000
DTEND:20260606T140059
SUMMARY:Generation Family-Friendly Dance Party
LOCATION:Rawene Centre, Birkenhead
URL:http://www.undertheradar.co.nz/gig/102114/gig.utr
END:VEVENT
END:VCALENDAR

