BEGIN:VCALENDAR
PRODID:-//www.undertheradar.co.nz//NONSGML Undertheradar//EN
VERSION:2.0
BEGIN:VEVENT
DESCRIPTION:Taranaki Jazz Club - Wellington School Of Music 23 Piece Big Band - Plymouth International Hotel, New Plymouth
UID:1190175379-102117@undertheradar.co.nz
DTSTAMP:20260503T154500Z
DTSTART:20260503T154500
DTEND:20260503T154559
SUMMARY:Taranaki Jazz Club - Wellington School Of Music 23 Piece Big Band
LOCATION:Plymouth International Hotel, New Plymouth
URL:http://www.undertheradar.co.nz/gig/102117/gig.utr
END:VEVENT
END:VCALENDAR

