BEGIN:VCALENDAR
PRODID:-//www.undertheradar.co.nz//NONSGML Undertheradar//EN
VERSION:2.0
BEGIN:VEVENT
DESCRIPTION:Super Selection Vol. 2 - The 'Unofficial' Takanaka Afterparty - KEMURI HI-FI, Auckland
UID:1190175379-102118@undertheradar.co.nz
DTSTAMP:20260429T160000Z
DTSTART:20260429T160000
DTEND:20260429T160059
SUMMARY:Super Selection Vol. 2 - The 'Unofficial' Takanaka Afterparty
LOCATION:KEMURI HI-FI, Auckland
URL:http://www.undertheradar.co.nz/gig/102118/gig.utr
END:VEVENT
END:VCALENDAR

