BEGIN:VCALENDAR
PRODID:-//www.undertheradar.co.nz//NONSGML Undertheradar//EN
VERSION:2.0
BEGIN:VEVENT
DESCRIPTION:Dave Murphy And Janet Muggeridge - The Fitz Restaurant Bar, New Plymouth
UID:1190175379-102119@undertheradar.co.nz
DTSTAMP:20260426T144500Z
DTSTART:20260426T144500
DTEND:20260426T144559
SUMMARY:Dave Murphy And Janet Muggeridge
LOCATION:The Fitz Restaurant Bar, New Plymouth
URL:http://www.undertheradar.co.nz/gig/102119/gig.utr
END:VEVENT
END:VCALENDAR

