BEGIN:VCALENDAR
PRODID:-//www.undertheradar.co.nz//NONSGML Undertheradar//EN
VERSION:2.0
BEGIN:VEVENT
DESCRIPTION:Te Awamutu Rocks - Jason Kerrison, Mike Conlon, Rowdy's Rose + More - Stallions, Te Awamutu
UID:1190175379-102120@undertheradar.co.nz
DTSTAMP:20260613T120000Z
DTSTART:20260613T120000
DTEND:20260613T120059
SUMMARY:Te Awamutu Rocks - Jason Kerrison, Mike Conlon, Rowdy's Rose + More
LOCATION:Stallions, Te Awamutu
URL:http://www.undertheradar.co.nz/gig/102120/gig.utr
END:VEVENT
END:VCALENDAR

