BEGIN:VCALENDAR
PRODID:-//www.undertheradar.co.nz//NONSGML Undertheradar//EN
VERSION:2.0
BEGIN:VEVENT
DESCRIPTION:Music For Mutual Aid - Meow, Wellington
UID:1190175379-102122@undertheradar.co.nz
DTSTAMP:20260430T190000Z
DTSTART:20260430T190000
DTEND:20260430T190059
SUMMARY:Music For Mutual Aid
LOCATION:Meow, Wellington
URL:http://www.undertheradar.co.nz/gig/102122/gig.utr
END:VEVENT
END:VCALENDAR

