BEGIN:VCALENDAR
PRODID:-//www.undertheradar.co.nz//NONSGML Undertheradar//EN
VERSION:2.0
BEGIN:VEVENT
DESCRIPTION:To The Front Fundraiser Music Quiz - Newtown Community Centre, Wellington
UID:1190175379-102123@undertheradar.co.nz
DTSTAMP:20260529T190000Z
DTSTART:20260529T190000
DTEND:20260529T190059
SUMMARY:To The Front Fundraiser Music Quiz
LOCATION:Newtown Community Centre, Wellington
URL:http://www.undertheradar.co.nz/gig/102123/gig.utr
END:VEVENT
END:VCALENDAR

