BEGIN:VCALENDAR
PRODID:-//www.undertheradar.co.nz//NONSGML Undertheradar//EN
VERSION:2.0
BEGIN:VEVENT
DESCRIPTION:Solid State - Progressive House 2.0 - Double Vision Craft Beer Brewery, Wellington
UID:1190175379-102124@undertheradar.co.nz
DTSTAMP:20260516T190000Z
DTSTART:20260516T190000
DTEND:20260516T190059
SUMMARY:Solid State - Progressive House 2.0
LOCATION:Double Vision Craft Beer Brewery, Wellington
URL:http://www.undertheradar.co.nz/gig/102124/gig.utr
END:VEVENT
END:VCALENDAR

