BEGIN:VCALENDAR
PRODID:-//www.undertheradar.co.nz//NONSGML Undertheradar//EN
VERSION:2.0
BEGIN:VEVENT
DESCRIPTION:The Clean: In The Dreamlife You Need A Rubber Soul - Book Launch - Pearl Diver, Dunedin
UID:1190175379-102125@undertheradar.co.nz
DTSTAMP:20260408T180000Z
DTSTART:20260408T180000
DTEND:20260408T180059
SUMMARY:The Clean: In The Dreamlife You Need A Rubber Soul - Book Launch
LOCATION:Pearl Diver, Dunedin
URL:http://www.undertheradar.co.nz/gig/102125/gig.utr
END:VEVENT
END:VCALENDAR

