BEGIN:VCALENDAR
PRODID:-//www.undertheradar.co.nz//NONSGML Undertheradar//EN
VERSION:2.0
BEGIN:VEVENT
DESCRIPTION:BADTAB, Elly Mae and Homing - Valhalla, Wellington
UID:1190175379-102126@undertheradar.co.nz
DTSTAMP:20260520T193000Z
DTSTART:20260520T193000
DTEND:20260520T193059
SUMMARY:BADTAB, Elly Mae and Homing
LOCATION:Valhalla, Wellington
URL:http://www.undertheradar.co.nz/gig/102126/gig.utr
END:VEVENT
END:VCALENDAR

