BEGIN:VCALENDAR
PRODID:-//www.undertheradar.co.nz//NONSGML Undertheradar//EN
VERSION:2.0
BEGIN:VEVENT
DESCRIPTION:Liberty - Single Release At Decibel - Decibel Wines, Hastings
UID:1190175379-102127@undertheradar.co.nz
DTSTAMP:20260515T173000Z
DTSTART:20260515T173000
DTEND:20260515T173059
SUMMARY:Liberty - Single Release At Decibel
LOCATION:Decibel Wines, Hastings
URL:http://www.undertheradar.co.nz/gig/102127/gig.utr
END:VEVENT
END:VCALENDAR

