BEGIN:VCALENDAR
PRODID:-//www.undertheradar.co.nz//NONSGML Undertheradar//EN
VERSION:2.0
BEGIN:VEVENT
DESCRIPTION:Delaney Davidson - Baby Heavyweight Album Tour - 4th Wall Theatre, New Plymouth
UID:1190175379-102129@undertheradar.co.nz
DTSTAMP:20260709T193000Z
DTSTART:20260709T193000
DTEND:20260709T193059
SUMMARY:Delaney Davidson - Baby Heavyweight Album Tour
LOCATION:4th Wall Theatre, New Plymouth
URL:http://www.undertheradar.co.nz/gig/102129/gig.utr
END:VEVENT
END:VCALENDAR

