BEGIN:VCALENDAR
PRODID:-//www.undertheradar.co.nz//NONSGML Undertheradar//EN
VERSION:2.0
BEGIN:VEVENT
DESCRIPTION:Delaney Davidson - Baby Heavyweight Album Tour - St Peter's Hall, Paekakariki
UID:1190175379-102130@undertheradar.co.nz
DTSTAMP:20260710T193000Z
DTSTART:20260710T193000
DTEND:20260710T193059
SUMMARY:Delaney Davidson - Baby Heavyweight Album Tour
LOCATION:St Peter's Hall, Paekakariki
URL:http://www.undertheradar.co.nz/gig/102130/gig.utr
END:VEVENT
END:VCALENDAR

