BEGIN:VCALENDAR
PRODID:-//www.undertheradar.co.nz//NONSGML Undertheradar//EN
VERSION:2.0
BEGIN:VEVENT
DESCRIPTION:Delaney Davidson - Baby Heavyweight Album Tour - The Boathouse, Nelson
UID:1190175379-102131@undertheradar.co.nz
DTSTAMP:20260717T193000Z
DTSTART:20260717T193000
DTEND:20260717T193059
SUMMARY:Delaney Davidson - Baby Heavyweight Album Tour
LOCATION:The Boathouse, Nelson
URL:http://www.undertheradar.co.nz/gig/102131/gig.utr
END:VEVENT
END:VCALENDAR

