BEGIN:VCALENDAR
PRODID:-//www.undertheradar.co.nz//NONSGML Undertheradar//EN
VERSION:2.0
BEGIN:VEVENT
DESCRIPTION:Delaney Davidson - Baby Heavyweight Album Tour - Whanganui War Memorial Hall, Whanganui
UID:1190175379-102132@undertheradar.co.nz
DTSTAMP:20260719T190000Z
DTSTART:20260719T190000
DTEND:20260719T190059
SUMMARY:Delaney Davidson - Baby Heavyweight Album Tour
LOCATION:Whanganui War Memorial Hall, Whanganui
URL:http://www.undertheradar.co.nz/gig/102132/gig.utr
END:VEVENT
END:VCALENDAR

